BEGIN:VCALENDAR
VERSION:2.0
PRODID:-//ChamberMaster//Event Calendar 2.0//EN
METHOD:PUBLISH
X-PUBLISHED-TTL:P3D
REFRESH-INTERVAL:P3D
CALSCALE:GREGORIAN
BEGIN:VEVENT
DTSTART:20271208T160000Z
DTEND:20271208T170000Z
X-MICROSOFT-CDO-ALLDAYEVENT:FALSE
SUMMARY:Ribbon Cutting -
DESCRIPTION:Be part of the excitement each week with our Chamber Ambassadors as they connect with member businesses to celebrate milestones\, highlight special occasions\, and extend our heartfelt thanks for their invaluable contributions to our community.
X-ALT-DESC;FMTTYPE=text/html:<h1 style="font-style: italic\;"><span style="font-family:comic sans ms\;"><em><span style="color:#008000\;">Be part of the excitement each week with our Chamber Ambassadors as they connect with member businesses to celebrate milestones\, highlight special occasions\, and extend our heartfelt thanks for their invaluable contributions to our community.</span></em></span></h1>\n
LOCATION:
UID:e.296.35848
SEQUENCE:3
DTSTAMP:20260420T050551Z
URL:http://calendar.norfolkareachamber.com/events/details/ribbon-cuttings-and-coffee-calls-join-us-12-08-2027-35848
END:VEVENT

END:VCALENDAR
