BEGIN:VCALENDAR
VERSION:2.0
PRODID:-//ChamberMaster//Event Calendar 2.0//EN
METHOD:PUBLISH
X-PUBLISHED-TTL:P3D
REFRESH-INTERVAL:P3D
CALSCALE:GREGORIAN
BEGIN:VEVENT
DTSTART:20260610T150000Z
DTEND:20260610T160000Z
X-MICROSOFT-CDO-ALLDAYEVENT:FALSE
SUMMARY:Ribbon Cutting -
DESCRIPTION:Be part of the excitement each week with our Chamber Ambassadors as they connect with member businesses to celebrate milestones\, highlight special occasions\, and extend our heartfelt thanks for their invaluable contributions to our community.
X-ALT-DESC;FMTTYPE=text/html:<h1 style="font-style: italic\;"><span style="font-family:comic sans ms\;"><em><span style="color:#008000\;">Be part of the excitement each week with our Chamber Ambassadors as they connect with member businesses to celebrate milestones\, highlight special occasions\, and extend our heartfelt thanks for their invaluable contributions to our community.</span></em></span></h1>\n
LOCATION:
UID:e.296.35770
SEQUENCE:3
DTSTAMP:20260423T082530Z
URL:http://calendar.norfolkareachamber.com/events/details/ribbon-cuttings-and-coffee-calls-join-us-06-10-2026-35770
END:VEVENT

END:VCALENDAR
