BEGIN:VCALENDAR
VERSION:2.0
PRODID:-//ChamberMaster//Event Calendar 2.0//EN
METHOD:PUBLISH
X-PUBLISHED-TTL:P3D
REFRESH-INTERVAL:P3D
CALSCALE:GREGORIAN
BEGIN:VEVENT
DTSTART;VALUE=DATE:20270531
DTEND;VALUE=DATE:20270601
TRANSP:TRANSPARENT
X-MICROSOFT-CDO-ALLDAYEVENT:TRUE
SUMMARY:Memorial Day - CHAMBER OFFICE CLOSED
DESCRIPTION:Memorial Day - CHAMBER OFFICE CLOSED
X-ALT-DESC;FMTTYPE=text/html:Memorial Day - CHAMBER OFFICE CLOSED
LOCATION:
UID:e.296.24911
SEQUENCE:3
DTSTAMP:20260419T164954Z
URL:http://calendar.norfolkareachamber.com/events/details/memorial-day-chamber-office-closed-05-31-2027-24911
END:VEVENT

END:VCALENDAR
