BEGIN:VCALENDAR
VERSION:2.0
PRODID:-//ChamberMaster//Event Calendar 2.0//EN
METHOD:PUBLISH
X-PUBLISHED-TTL:P3D
REFRESH-INTERVAL:P3D
CALSCALE:GREGORIAN
BEGIN:VEVENT
DTSTART:20260113T180000Z
DTEND:20260113T190000Z
X-MICROSOFT-CDO-ALLDAYEVENT:FALSE
SUMMARY:Agri-Business Council Meeting
DESCRIPTION:Discuss Ag related issues and events.
X-ALT-DESC;FMTTYPE=text/html:<p>Discuss Ag related issues and events.&nbsp\;</p>\n
LOCATION:Chamber Office
UID:e.296.19853
SEQUENCE:3
DTSTAMP:20260423T091426Z
URL:http://calendar.norfolkareachamber.com/events/details/agri-business-council-meeting-01-13-2026-19853
END:VEVENT

END:VCALENDAR
